BEGIN:VCALENDAR
VERSION:2.0
PRODID:-//Mucho Gusto - ECPv6.15.20//NONSGML v1.0//EN
CALSCALE:GREGORIAN
METHOD:PUBLISH
X-WR-CALNAME:Mucho Gusto
X-ORIGINAL-URL:https://muchogustogroup.com
X-WR-CALDESC:Events for Mucho Gusto
REFRESH-INTERVAL;VALUE=DURATION:PT1H
X-Robots-Tag:noindex
X-PUBLISHED-TTL:PT1H
BEGIN:VTIMEZONE
TZID:America/New_York
BEGIN:DAYLIGHT
TZOFFSETFROM:-0500
TZOFFSETTO:-0400
TZNAME:EDT
DTSTART:20250309T070000
END:DAYLIGHT
BEGIN:STANDARD
TZOFFSETFROM:-0400
TZOFFSETTO:-0500
TZNAME:EST
DTSTART:20251102T060000
END:STANDARD
BEGIN:DAYLIGHT
TZOFFSETFROM:-0500
TZOFFSETTO:-0400
TZNAME:EDT
DTSTART:20260308T070000
END:DAYLIGHT
BEGIN:STANDARD
TZOFFSETFROM:-0400
TZOFFSETTO:-0500
TZNAME:EST
DTSTART:20261101T060000
END:STANDARD
BEGIN:DAYLIGHT
TZOFFSETFROM:-0500
TZOFFSETTO:-0400
TZNAME:EDT
DTSTART:20270314T070000
END:DAYLIGHT
BEGIN:STANDARD
TZOFFSETFROM:-0400
TZOFFSETTO:-0500
TZNAME:EST
DTSTART:20271107T060000
END:STANDARD
END:VTIMEZONE
BEGIN:VEVENT
DTSTART;VALUE=DATE:20260708
DTEND;VALUE=DATE:20260709
DTSTAMP:20260424T160005
CREATED:20260109T190717Z
LAST-MODIFIED:20260114T183704Z
UID:10000785-1783468800-1783555199@muchogustogroup.com
SUMMARY:Taste of Tomorrow Wednesdays
DESCRIPTION:Every Wednesday\, Mucho Gusto spotlights our kitchen talent in a Taste of Tomorrow! Try out new dishes and culinary specials that are only available one day a week! \nOur current Taste of Tomorrow: Mucho Gusto Street Fries! Loaded fries covered with Queso Fundido\, Cilantro\, Onion\, Crema\, Cotija & Salsa Verde on the side.
URL:https://muchogustogroup.com/event/taste-of-tomorrow/2026-07-08/
LOCATION:Mucho Gusto Bel Air\, 1209A Baltimore Pike\, Bel Air\, MD\, 21014\, United States
CATEGORIES:Weekly Features
ATTACH;FMTTYPE=image/jpeg:https://muchogustogroup.com/wp-content/uploads/2026/01/street-fries_1200.jpg
END:VEVENT
END:VCALENDAR