BEGIN:VCALENDAR
VERSION:2.0
PRODID:-//Mucho Gusto - ECPv6.15.20//NONSGML v1.0//EN
CALSCALE:GREGORIAN
METHOD:PUBLISH
X-WR-CALNAME:Mucho Gusto
X-ORIGINAL-URL:https://muchogustogroup.com
X-WR-CALDESC:Events for Mucho Gusto
REFRESH-INTERVAL;VALUE=DURATION:PT1H
X-Robots-Tag:noindex
X-PUBLISHED-TTL:PT1H
BEGIN:VTIMEZONE
TZID:America/New_York
BEGIN:DAYLIGHT
TZOFFSETFROM:-0500
TZOFFSETTO:-0400
TZNAME:EDT
DTSTART:20250309T070000
END:DAYLIGHT
BEGIN:STANDARD
TZOFFSETFROM:-0400
TZOFFSETTO:-0500
TZNAME:EST
DTSTART:20251102T060000
END:STANDARD
BEGIN:DAYLIGHT
TZOFFSETFROM:-0500
TZOFFSETTO:-0400
TZNAME:EDT
DTSTART:20260308T070000
END:DAYLIGHT
BEGIN:STANDARD
TZOFFSETFROM:-0400
TZOFFSETTO:-0500
TZNAME:EST
DTSTART:20261101T060000
END:STANDARD
BEGIN:DAYLIGHT
TZOFFSETFROM:-0500
TZOFFSETTO:-0400
TZNAME:EDT
DTSTART:20270314T070000
END:DAYLIGHT
BEGIN:STANDARD
TZOFFSETFROM:-0400
TZOFFSETTO:-0500
TZNAME:EST
DTSTART:20271107T060000
END:STANDARD
END:VTIMEZONE
BEGIN:VEVENT
DTSTART;TZID=America/New_York:20260501T180000
DTEND;TZID=America/New_York:20260501T220000
DTSTAMP:20260424T144611
CREATED:20260113T181522Z
LAST-MODIFIED:20260114T183522Z
UID:10001407-1777658400-1777672800@muchogustogroup.com
SUMMARY:Live Music Fridays and Saturdays
DESCRIPTION:Fridays and Saturdays from May through September\, it’s live music at Mucho Gusto Bel Air!
URL:https://muchogustogroup.com/event/live-music-fridays-and-saturdays/2026-05-01/
LOCATION:Mucho Gusto Bel Air\, 1209A Baltimore Pike\, Bel Air\, MD\, 21014\, United States
ATTACH;FMTTYPE=image/jpeg:https://muchogustogroup.com/wp-content/uploads/2026/01/Live-Music-1200.jpg
END:VEVENT
BEGIN:VEVENT
DTSTART;TZID=America/New_York:20260502T180000
DTEND;TZID=America/New_York:20260502T220000
DTSTAMP:20260424T144611
CREATED:20260113T181522Z
LAST-MODIFIED:20260114T183522Z
UID:10001408-1777744800-1777759200@muchogustogroup.com
SUMMARY:Live Music Fridays and Saturdays
DESCRIPTION:Fridays and Saturdays from May through September\, it’s live music at Mucho Gusto Bel Air!
URL:https://muchogustogroup.com/event/live-music-fridays-and-saturdays/2026-05-02/
LOCATION:Mucho Gusto Bel Air\, 1209A Baltimore Pike\, Bel Air\, MD\, 21014\, United States
ATTACH;FMTTYPE=image/jpeg:https://muchogustogroup.com/wp-content/uploads/2026/01/Live-Music-1200.jpg
END:VEVENT
BEGIN:VEVENT
DTSTART;TZID=America/New_York:20260508T180000
DTEND;TZID=America/New_York:20260508T220000
DTSTAMP:20260424T144611
CREATED:20260113T181522Z
LAST-MODIFIED:20260114T183522Z
UID:10001409-1778263200-1778277600@muchogustogroup.com
SUMMARY:Live Music Fridays and Saturdays
DESCRIPTION:Fridays and Saturdays from May through September\, it’s live music at Mucho Gusto Bel Air!
URL:https://muchogustogroup.com/event/live-music-fridays-and-saturdays/2026-05-08/
LOCATION:Mucho Gusto Bel Air\, 1209A Baltimore Pike\, Bel Air\, MD\, 21014\, United States
ATTACH;FMTTYPE=image/jpeg:https://muchogustogroup.com/wp-content/uploads/2026/01/Live-Music-1200.jpg
END:VEVENT
BEGIN:VEVENT
DTSTART;TZID=America/New_York:20260509T180000
DTEND;TZID=America/New_York:20260509T220000
DTSTAMP:20260424T144611
CREATED:20260113T181522Z
LAST-MODIFIED:20260114T183522Z
UID:10001410-1778349600-1778364000@muchogustogroup.com
SUMMARY:Live Music Fridays and Saturdays
DESCRIPTION:Fridays and Saturdays from May through September\, it’s live music at Mucho Gusto Bel Air!
URL:https://muchogustogroup.com/event/live-music-fridays-and-saturdays/2026-05-09/
LOCATION:Mucho Gusto Bel Air\, 1209A Baltimore Pike\, Bel Air\, MD\, 21014\, United States
ATTACH;FMTTYPE=image/jpeg:https://muchogustogroup.com/wp-content/uploads/2026/01/Live-Music-1200.jpg
END:VEVENT
BEGIN:VEVENT
DTSTART;TZID=America/New_York:20260515T180000
DTEND;TZID=America/New_York:20260515T220000
DTSTAMP:20260424T144611
CREATED:20260113T181522Z
LAST-MODIFIED:20260114T183522Z
UID:10001411-1778868000-1778882400@muchogustogroup.com
SUMMARY:Live Music Fridays and Saturdays
DESCRIPTION:Fridays and Saturdays from May through September\, it’s live music at Mucho Gusto Bel Air!
URL:https://muchogustogroup.com/event/live-music-fridays-and-saturdays/2026-05-15/
LOCATION:Mucho Gusto Bel Air\, 1209A Baltimore Pike\, Bel Air\, MD\, 21014\, United States
ATTACH;FMTTYPE=image/jpeg:https://muchogustogroup.com/wp-content/uploads/2026/01/Live-Music-1200.jpg
END:VEVENT
BEGIN:VEVENT
DTSTART;TZID=America/New_York:20260516T180000
DTEND;TZID=America/New_York:20260516T220000
DTSTAMP:20260424T144611
CREATED:20260113T181522Z
LAST-MODIFIED:20260114T183522Z
UID:10001412-1778954400-1778968800@muchogustogroup.com
SUMMARY:Live Music Fridays and Saturdays
DESCRIPTION:Fridays and Saturdays from May through September\, it’s live music at Mucho Gusto Bel Air!
URL:https://muchogustogroup.com/event/live-music-fridays-and-saturdays/2026-05-16/
LOCATION:Mucho Gusto Bel Air\, 1209A Baltimore Pike\, Bel Air\, MD\, 21014\, United States
ATTACH;FMTTYPE=image/jpeg:https://muchogustogroup.com/wp-content/uploads/2026/01/Live-Music-1200.jpg
END:VEVENT
BEGIN:VEVENT
DTSTART;TZID=America/New_York:20260522T180000
DTEND;TZID=America/New_York:20260522T220000
DTSTAMP:20260424T144611
CREATED:20260113T181522Z
LAST-MODIFIED:20260114T183522Z
UID:10001413-1779472800-1779487200@muchogustogroup.com
SUMMARY:Live Music Fridays and Saturdays
DESCRIPTION:Fridays and Saturdays from May through September\, it’s live music at Mucho Gusto Bel Air!
URL:https://muchogustogroup.com/event/live-music-fridays-and-saturdays/2026-05-22/
LOCATION:Mucho Gusto Bel Air\, 1209A Baltimore Pike\, Bel Air\, MD\, 21014\, United States
ATTACH;FMTTYPE=image/jpeg:https://muchogustogroup.com/wp-content/uploads/2026/01/Live-Music-1200.jpg
END:VEVENT
BEGIN:VEVENT
DTSTART;TZID=America/New_York:20260523T180000
DTEND;TZID=America/New_York:20260523T220000
DTSTAMP:20260424T144611
CREATED:20260113T181522Z
LAST-MODIFIED:20260114T183522Z
UID:10001414-1779559200-1779573600@muchogustogroup.com
SUMMARY:Live Music Fridays and Saturdays
DESCRIPTION:Fridays and Saturdays from May through September\, it’s live music at Mucho Gusto Bel Air!
URL:https://muchogustogroup.com/event/live-music-fridays-and-saturdays/2026-05-23/
LOCATION:Mucho Gusto Bel Air\, 1209A Baltimore Pike\, Bel Air\, MD\, 21014\, United States
ATTACH;FMTTYPE=image/jpeg:https://muchogustogroup.com/wp-content/uploads/2026/01/Live-Music-1200.jpg
END:VEVENT
BEGIN:VEVENT
DTSTART;TZID=America/New_York:20260529T180000
DTEND;TZID=America/New_York:20260529T220000
DTSTAMP:20260424T144611
CREATED:20260113T181522Z
LAST-MODIFIED:20260114T183522Z
UID:10001415-1780077600-1780092000@muchogustogroup.com
SUMMARY:Live Music Fridays and Saturdays
DESCRIPTION:Fridays and Saturdays from May through September\, it’s live music at Mucho Gusto Bel Air!
URL:https://muchogustogroup.com/event/live-music-fridays-and-saturdays/2026-05-29/
LOCATION:Mucho Gusto Bel Air\, 1209A Baltimore Pike\, Bel Air\, MD\, 21014\, United States
ATTACH;FMTTYPE=image/jpeg:https://muchogustogroup.com/wp-content/uploads/2026/01/Live-Music-1200.jpg
END:VEVENT
BEGIN:VEVENT
DTSTART;TZID=America/New_York:20260530T180000
DTEND;TZID=America/New_York:20260530T220000
DTSTAMP:20260424T144611
CREATED:20260113T181522Z
LAST-MODIFIED:20260114T183522Z
UID:10001416-1780164000-1780178400@muchogustogroup.com
SUMMARY:Live Music Fridays and Saturdays
DESCRIPTION:Fridays and Saturdays from May through September\, it’s live music at Mucho Gusto Bel Air!
URL:https://muchogustogroup.com/event/live-music-fridays-and-saturdays/2026-05-30/
LOCATION:Mucho Gusto Bel Air\, 1209A Baltimore Pike\, Bel Air\, MD\, 21014\, United States
ATTACH;FMTTYPE=image/jpeg:https://muchogustogroup.com/wp-content/uploads/2026/01/Live-Music-1200.jpg
END:VEVENT
BEGIN:VEVENT
DTSTART;TZID=America/New_York:20260605T180000
DTEND;TZID=America/New_York:20260605T220000
DTSTAMP:20260424T144611
CREATED:20260113T181522Z
LAST-MODIFIED:20260114T183522Z
UID:10001417-1780682400-1780696800@muchogustogroup.com
SUMMARY:Live Music Fridays and Saturdays
DESCRIPTION:Fridays and Saturdays from May through September\, it’s live music at Mucho Gusto Bel Air!
URL:https://muchogustogroup.com/event/live-music-fridays-and-saturdays/2026-06-05/
LOCATION:Mucho Gusto Bel Air\, 1209A Baltimore Pike\, Bel Air\, MD\, 21014\, United States
ATTACH;FMTTYPE=image/jpeg:https://muchogustogroup.com/wp-content/uploads/2026/01/Live-Music-1200.jpg
END:VEVENT
BEGIN:VEVENT
DTSTART;TZID=America/New_York:20260606T180000
DTEND;TZID=America/New_York:20260606T220000
DTSTAMP:20260424T144611
CREATED:20260113T181522Z
LAST-MODIFIED:20260114T183522Z
UID:10001418-1780768800-1780783200@muchogustogroup.com
SUMMARY:Live Music Fridays and Saturdays
DESCRIPTION:Fridays and Saturdays from May through September\, it’s live music at Mucho Gusto Bel Air!
URL:https://muchogustogroup.com/event/live-music-fridays-and-saturdays/2026-06-06/
LOCATION:Mucho Gusto Bel Air\, 1209A Baltimore Pike\, Bel Air\, MD\, 21014\, United States
ATTACH;FMTTYPE=image/jpeg:https://muchogustogroup.com/wp-content/uploads/2026/01/Live-Music-1200.jpg
END:VEVENT
BEGIN:VEVENT
DTSTART;TZID=America/New_York:20260612T180000
DTEND;TZID=America/New_York:20260612T220000
DTSTAMP:20260424T144611
CREATED:20260113T181522Z
LAST-MODIFIED:20260114T183522Z
UID:10001419-1781287200-1781301600@muchogustogroup.com
SUMMARY:Live Music Fridays and Saturdays
DESCRIPTION:Fridays and Saturdays from May through September\, it’s live music at Mucho Gusto Bel Air!
URL:https://muchogustogroup.com/event/live-music-fridays-and-saturdays/2026-06-12/
LOCATION:Mucho Gusto Bel Air\, 1209A Baltimore Pike\, Bel Air\, MD\, 21014\, United States
ATTACH;FMTTYPE=image/jpeg:https://muchogustogroup.com/wp-content/uploads/2026/01/Live-Music-1200.jpg
END:VEVENT
BEGIN:VEVENT
DTSTART;TZID=America/New_York:20260613T180000
DTEND;TZID=America/New_York:20260613T220000
DTSTAMP:20260424T144611
CREATED:20260113T181522Z
LAST-MODIFIED:20260114T183522Z
UID:10001420-1781373600-1781388000@muchogustogroup.com
SUMMARY:Live Music Fridays and Saturdays
DESCRIPTION:Fridays and Saturdays from May through September\, it’s live music at Mucho Gusto Bel Air!
URL:https://muchogustogroup.com/event/live-music-fridays-and-saturdays/2026-06-13/
LOCATION:Mucho Gusto Bel Air\, 1209A Baltimore Pike\, Bel Air\, MD\, 21014\, United States
ATTACH;FMTTYPE=image/jpeg:https://muchogustogroup.com/wp-content/uploads/2026/01/Live-Music-1200.jpg
END:VEVENT
BEGIN:VEVENT
DTSTART;TZID=America/New_York:20260619T180000
DTEND;TZID=America/New_York:20260619T220000
DTSTAMP:20260424T144611
CREATED:20260113T181522Z
LAST-MODIFIED:20260114T183522Z
UID:10001421-1781892000-1781906400@muchogustogroup.com
SUMMARY:Live Music Fridays and Saturdays
DESCRIPTION:Fridays and Saturdays from May through September\, it’s live music at Mucho Gusto Bel Air!
URL:https://muchogustogroup.com/event/live-music-fridays-and-saturdays/2026-06-19/
LOCATION:Mucho Gusto Bel Air\, 1209A Baltimore Pike\, Bel Air\, MD\, 21014\, United States
ATTACH;FMTTYPE=image/jpeg:https://muchogustogroup.com/wp-content/uploads/2026/01/Live-Music-1200.jpg
END:VEVENT
BEGIN:VEVENT
DTSTART;TZID=America/New_York:20260620T180000
DTEND;TZID=America/New_York:20260620T220000
DTSTAMP:20260424T144611
CREATED:20260113T181522Z
LAST-MODIFIED:20260114T183522Z
UID:10001422-1781978400-1781992800@muchogustogroup.com
SUMMARY:Live Music Fridays and Saturdays
DESCRIPTION:Fridays and Saturdays from May through September\, it’s live music at Mucho Gusto Bel Air!
URL:https://muchogustogroup.com/event/live-music-fridays-and-saturdays/2026-06-20/
LOCATION:Mucho Gusto Bel Air\, 1209A Baltimore Pike\, Bel Air\, MD\, 21014\, United States
ATTACH;FMTTYPE=image/jpeg:https://muchogustogroup.com/wp-content/uploads/2026/01/Live-Music-1200.jpg
END:VEVENT
BEGIN:VEVENT
DTSTART;TZID=America/New_York:20260626T180000
DTEND;TZID=America/New_York:20260626T220000
DTSTAMP:20260424T144611
CREATED:20260113T181522Z
LAST-MODIFIED:20260114T183522Z
UID:10001423-1782496800-1782511200@muchogustogroup.com
SUMMARY:Live Music Fridays and Saturdays
DESCRIPTION:Fridays and Saturdays from May through September\, it’s live music at Mucho Gusto Bel Air!
URL:https://muchogustogroup.com/event/live-music-fridays-and-saturdays/2026-06-26/
LOCATION:Mucho Gusto Bel Air\, 1209A Baltimore Pike\, Bel Air\, MD\, 21014\, United States
ATTACH;FMTTYPE=image/jpeg:https://muchogustogroup.com/wp-content/uploads/2026/01/Live-Music-1200.jpg
END:VEVENT
BEGIN:VEVENT
DTSTART;TZID=America/New_York:20260627T180000
DTEND;TZID=America/New_York:20260627T220000
DTSTAMP:20260424T144611
CREATED:20260113T181522Z
LAST-MODIFIED:20260114T183522Z
UID:10001424-1782583200-1782597600@muchogustogroup.com
SUMMARY:Live Music Fridays and Saturdays
DESCRIPTION:Fridays and Saturdays from May through September\, it’s live music at Mucho Gusto Bel Air!
URL:https://muchogustogroup.com/event/live-music-fridays-and-saturdays/2026-06-27/
LOCATION:Mucho Gusto Bel Air\, 1209A Baltimore Pike\, Bel Air\, MD\, 21014\, United States
ATTACH;FMTTYPE=image/jpeg:https://muchogustogroup.com/wp-content/uploads/2026/01/Live-Music-1200.jpg
END:VEVENT
BEGIN:VEVENT
DTSTART;TZID=America/New_York:20260703T180000
DTEND;TZID=America/New_York:20260703T220000
DTSTAMP:20260424T144611
CREATED:20260113T181522Z
LAST-MODIFIED:20260114T183522Z
UID:10001425-1783101600-1783116000@muchogustogroup.com
SUMMARY:Live Music Fridays and Saturdays
DESCRIPTION:Fridays and Saturdays from May through September\, it’s live music at Mucho Gusto Bel Air!
URL:https://muchogustogroup.com/event/live-music-fridays-and-saturdays/2026-07-03/
LOCATION:Mucho Gusto Bel Air\, 1209A Baltimore Pike\, Bel Air\, MD\, 21014\, United States
ATTACH;FMTTYPE=image/jpeg:https://muchogustogroup.com/wp-content/uploads/2026/01/Live-Music-1200.jpg
END:VEVENT
BEGIN:VEVENT
DTSTART;TZID=America/New_York:20260704T180000
DTEND;TZID=America/New_York:20260704T220000
DTSTAMP:20260424T144611
CREATED:20260113T181522Z
LAST-MODIFIED:20260114T183522Z
UID:10001426-1783188000-1783202400@muchogustogroup.com
SUMMARY:Live Music Fridays and Saturdays
DESCRIPTION:Fridays and Saturdays from May through September\, it’s live music at Mucho Gusto Bel Air!
URL:https://muchogustogroup.com/event/live-music-fridays-and-saturdays/2026-07-04/
LOCATION:Mucho Gusto Bel Air\, 1209A Baltimore Pike\, Bel Air\, MD\, 21014\, United States
ATTACH;FMTTYPE=image/jpeg:https://muchogustogroup.com/wp-content/uploads/2026/01/Live-Music-1200.jpg
END:VEVENT
BEGIN:VEVENT
DTSTART;TZID=America/New_York:20260710T180000
DTEND;TZID=America/New_York:20260710T220000
DTSTAMP:20260424T144611
CREATED:20260113T181522Z
LAST-MODIFIED:20260114T183522Z
UID:10001427-1783706400-1783720800@muchogustogroup.com
SUMMARY:Live Music Fridays and Saturdays
DESCRIPTION:Fridays and Saturdays from May through September\, it’s live music at Mucho Gusto Bel Air!
URL:https://muchogustogroup.com/event/live-music-fridays-and-saturdays/2026-07-10/
LOCATION:Mucho Gusto Bel Air\, 1209A Baltimore Pike\, Bel Air\, MD\, 21014\, United States
ATTACH;FMTTYPE=image/jpeg:https://muchogustogroup.com/wp-content/uploads/2026/01/Live-Music-1200.jpg
END:VEVENT
BEGIN:VEVENT
DTSTART;TZID=America/New_York:20260711T180000
DTEND;TZID=America/New_York:20260711T220000
DTSTAMP:20260424T144611
CREATED:20260113T181522Z
LAST-MODIFIED:20260114T183522Z
UID:10001428-1783792800-1783807200@muchogustogroup.com
SUMMARY:Live Music Fridays and Saturdays
DESCRIPTION:Fridays and Saturdays from May through September\, it’s live music at Mucho Gusto Bel Air!
URL:https://muchogustogroup.com/event/live-music-fridays-and-saturdays/2026-07-11/
LOCATION:Mucho Gusto Bel Air\, 1209A Baltimore Pike\, Bel Air\, MD\, 21014\, United States
ATTACH;FMTTYPE=image/jpeg:https://muchogustogroup.com/wp-content/uploads/2026/01/Live-Music-1200.jpg
END:VEVENT
BEGIN:VEVENT
DTSTART;TZID=America/New_York:20260717T180000
DTEND;TZID=America/New_York:20260717T220000
DTSTAMP:20260424T144611
CREATED:20260113T181522Z
LAST-MODIFIED:20260114T183522Z
UID:10001429-1784311200-1784325600@muchogustogroup.com
SUMMARY:Live Music Fridays and Saturdays
DESCRIPTION:Fridays and Saturdays from May through September\, it’s live music at Mucho Gusto Bel Air!
URL:https://muchogustogroup.com/event/live-music-fridays-and-saturdays/2026-07-17/
LOCATION:Mucho Gusto Bel Air\, 1209A Baltimore Pike\, Bel Air\, MD\, 21014\, United States
ATTACH;FMTTYPE=image/jpeg:https://muchogustogroup.com/wp-content/uploads/2026/01/Live-Music-1200.jpg
END:VEVENT
BEGIN:VEVENT
DTSTART;TZID=America/New_York:20260718T180000
DTEND;TZID=America/New_York:20260718T220000
DTSTAMP:20260424T144611
CREATED:20260113T181522Z
LAST-MODIFIED:20260114T183522Z
UID:10001430-1784397600-1784412000@muchogustogroup.com
SUMMARY:Live Music Fridays and Saturdays
DESCRIPTION:Fridays and Saturdays from May through September\, it’s live music at Mucho Gusto Bel Air!
URL:https://muchogustogroup.com/event/live-music-fridays-and-saturdays/2026-07-18/
LOCATION:Mucho Gusto Bel Air\, 1209A Baltimore Pike\, Bel Air\, MD\, 21014\, United States
ATTACH;FMTTYPE=image/jpeg:https://muchogustogroup.com/wp-content/uploads/2026/01/Live-Music-1200.jpg
END:VEVENT
BEGIN:VEVENT
DTSTART;TZID=America/New_York:20260724T180000
DTEND;TZID=America/New_York:20260724T220000
DTSTAMP:20260424T144611
CREATED:20260113T181522Z
LAST-MODIFIED:20260114T183522Z
UID:10001431-1784916000-1784930400@muchogustogroup.com
SUMMARY:Live Music Fridays and Saturdays
DESCRIPTION:Fridays and Saturdays from May through September\, it’s live music at Mucho Gusto Bel Air!
URL:https://muchogustogroup.com/event/live-music-fridays-and-saturdays/2026-07-24/
LOCATION:Mucho Gusto Bel Air\, 1209A Baltimore Pike\, Bel Air\, MD\, 21014\, United States
ATTACH;FMTTYPE=image/jpeg:https://muchogustogroup.com/wp-content/uploads/2026/01/Live-Music-1200.jpg
END:VEVENT
BEGIN:VEVENT
DTSTART;TZID=America/New_York:20260725T180000
DTEND;TZID=America/New_York:20260725T220000
DTSTAMP:20260424T144611
CREATED:20260113T181522Z
LAST-MODIFIED:20260114T183522Z
UID:10001432-1785002400-1785016800@muchogustogroup.com
SUMMARY:Live Music Fridays and Saturdays
DESCRIPTION:Fridays and Saturdays from May through September\, it’s live music at Mucho Gusto Bel Air!
URL:https://muchogustogroup.com/event/live-music-fridays-and-saturdays/2026-07-25/
LOCATION:Mucho Gusto Bel Air\, 1209A Baltimore Pike\, Bel Air\, MD\, 21014\, United States
ATTACH;FMTTYPE=image/jpeg:https://muchogustogroup.com/wp-content/uploads/2026/01/Live-Music-1200.jpg
END:VEVENT
BEGIN:VEVENT
DTSTART;TZID=America/New_York:20260731T180000
DTEND;TZID=America/New_York:20260731T220000
DTSTAMP:20260424T144611
CREATED:20260113T181522Z
LAST-MODIFIED:20260114T183522Z
UID:10001433-1785520800-1785535200@muchogustogroup.com
SUMMARY:Live Music Fridays and Saturdays
DESCRIPTION:Fridays and Saturdays from May through September\, it’s live music at Mucho Gusto Bel Air!
URL:https://muchogustogroup.com/event/live-music-fridays-and-saturdays/2026-07-31/
LOCATION:Mucho Gusto Bel Air\, 1209A Baltimore Pike\, Bel Air\, MD\, 21014\, United States
ATTACH;FMTTYPE=image/jpeg:https://muchogustogroup.com/wp-content/uploads/2026/01/Live-Music-1200.jpg
END:VEVENT
BEGIN:VEVENT
DTSTART;TZID=America/New_York:20260801T180000
DTEND;TZID=America/New_York:20260801T220000
DTSTAMP:20260424T144611
CREATED:20260113T181522Z
LAST-MODIFIED:20260114T183522Z
UID:10001434-1785607200-1785621600@muchogustogroup.com
SUMMARY:Live Music Fridays and Saturdays
DESCRIPTION:Fridays and Saturdays from May through September\, it’s live music at Mucho Gusto Bel Air!
URL:https://muchogustogroup.com/event/live-music-fridays-and-saturdays/2026-08-01/
LOCATION:Mucho Gusto Bel Air\, 1209A Baltimore Pike\, Bel Air\, MD\, 21014\, United States
ATTACH;FMTTYPE=image/jpeg:https://muchogustogroup.com/wp-content/uploads/2026/01/Live-Music-1200.jpg
END:VEVENT
BEGIN:VEVENT
DTSTART;TZID=America/New_York:20260807T180000
DTEND;TZID=America/New_York:20260807T220000
DTSTAMP:20260424T144611
CREATED:20260113T181522Z
LAST-MODIFIED:20260114T183522Z
UID:10001435-1786125600-1786140000@muchogustogroup.com
SUMMARY:Live Music Fridays and Saturdays
DESCRIPTION:Fridays and Saturdays from May through September\, it’s live music at Mucho Gusto Bel Air!
URL:https://muchogustogroup.com/event/live-music-fridays-and-saturdays/2026-08-07/
LOCATION:Mucho Gusto Bel Air\, 1209A Baltimore Pike\, Bel Air\, MD\, 21014\, United States
ATTACH;FMTTYPE=image/jpeg:https://muchogustogroup.com/wp-content/uploads/2026/01/Live-Music-1200.jpg
END:VEVENT
BEGIN:VEVENT
DTSTART;TZID=America/New_York:20260808T180000
DTEND;TZID=America/New_York:20260808T220000
DTSTAMP:20260424T144611
CREATED:20260113T181522Z
LAST-MODIFIED:20260114T183522Z
UID:10001436-1786212000-1786226400@muchogustogroup.com
SUMMARY:Live Music Fridays and Saturdays
DESCRIPTION:Fridays and Saturdays from May through September\, it’s live music at Mucho Gusto Bel Air!
URL:https://muchogustogroup.com/event/live-music-fridays-and-saturdays/2026-08-08/
LOCATION:Mucho Gusto Bel Air\, 1209A Baltimore Pike\, Bel Air\, MD\, 21014\, United States
ATTACH;FMTTYPE=image/jpeg:https://muchogustogroup.com/wp-content/uploads/2026/01/Live-Music-1200.jpg
END:VEVENT
END:VCALENDAR