BEGIN:VCALENDAR
VERSION:2.0
PRODID:-//Mucho Gusto - ECPv6.15.20//NONSGML v1.0//EN
CALSCALE:GREGORIAN
METHOD:PUBLISH
X-WR-CALNAME:Mucho Gusto
X-ORIGINAL-URL:https://muchogustogroup.com
X-WR-CALDESC:Events for Mucho Gusto
REFRESH-INTERVAL;VALUE=DURATION:PT1H
X-Robots-Tag:noindex
X-PUBLISHED-TTL:PT1H
BEGIN:VTIMEZONE
TZID:America/New_York
BEGIN:DAYLIGHT
TZOFFSETFROM:-0500
TZOFFSETTO:-0400
TZNAME:EDT
DTSTART:20250309T070000
END:DAYLIGHT
BEGIN:STANDARD
TZOFFSETFROM:-0400
TZOFFSETTO:-0500
TZNAME:EST
DTSTART:20251102T060000
END:STANDARD
BEGIN:DAYLIGHT
TZOFFSETFROM:-0500
TZOFFSETTO:-0400
TZNAME:EDT
DTSTART:20260308T070000
END:DAYLIGHT
BEGIN:STANDARD
TZOFFSETFROM:-0400
TZOFFSETTO:-0500
TZNAME:EST
DTSTART:20261101T060000
END:STANDARD
BEGIN:DAYLIGHT
TZOFFSETFROM:-0500
TZOFFSETTO:-0400
TZNAME:EDT
DTSTART:20270314T070000
END:DAYLIGHT
BEGIN:STANDARD
TZOFFSETFROM:-0400
TZOFFSETTO:-0500
TZNAME:EST
DTSTART:20271107T060000
END:STANDARD
END:VTIMEZONE
BEGIN:VEVENT
DTSTART;TZID=America/New_York:20260430T180000
DTEND;TZID=America/New_York:20260430T220000
DTSTAMP:20260424T145605
CREATED:20260113T181001Z
LAST-MODIFIED:20260114T183538Z
UID:10001455-1777572000-1777586400@muchogustogroup.com
SUMMARY:Live Music Thursdays
DESCRIPTION:From March through April\, every Thursday means live music at Much Gusto!
URL:https://muchogustogroup.com/event/live-music-thursdays/2026-04-30/
LOCATION:Mucho Gusto Bel Air\, 1209A Baltimore Pike\, Bel Air\, MD\, 21014\, United States
CATEGORIES:Weekly Features
ATTACH;FMTTYPE=image/jpeg:https://muchogustogroup.com/wp-content/uploads/2026/01/Live-Music-1200.jpg
END:VEVENT
BEGIN:VEVENT
DTSTART;TZID=America/New_York:20260507T180000
DTEND;TZID=America/New_York:20260507T220000
DTSTAMP:20260424T145605
CREATED:20260113T181001Z
LAST-MODIFIED:20260114T183538Z
UID:10001456-1778176800-1778191200@muchogustogroup.com
SUMMARY:Live Music Thursdays
DESCRIPTION:From March through April\, every Thursday means live music at Much Gusto!
URL:https://muchogustogroup.com/event/live-music-thursdays/2026-05-07/
LOCATION:Mucho Gusto Bel Air\, 1209A Baltimore Pike\, Bel Air\, MD\, 21014\, United States
CATEGORIES:Weekly Features
ATTACH;FMTTYPE=image/jpeg:https://muchogustogroup.com/wp-content/uploads/2026/01/Live-Music-1200.jpg
END:VEVENT
BEGIN:VEVENT
DTSTART;TZID=America/New_York:20260514T180000
DTEND;TZID=America/New_York:20260514T220000
DTSTAMP:20260424T145605
CREATED:20260113T181001Z
LAST-MODIFIED:20260114T183538Z
UID:10001457-1778781600-1778796000@muchogustogroup.com
SUMMARY:Live Music Thursdays
DESCRIPTION:From March through April\, every Thursday means live music at Much Gusto!
URL:https://muchogustogroup.com/event/live-music-thursdays/2026-05-14/
LOCATION:Mucho Gusto Bel Air\, 1209A Baltimore Pike\, Bel Air\, MD\, 21014\, United States
CATEGORIES:Weekly Features
ATTACH;FMTTYPE=image/jpeg:https://muchogustogroup.com/wp-content/uploads/2026/01/Live-Music-1200.jpg
END:VEVENT
BEGIN:VEVENT
DTSTART;TZID=America/New_York:20260521T180000
DTEND;TZID=America/New_York:20260521T220000
DTSTAMP:20260424T145605
CREATED:20260113T181001Z
LAST-MODIFIED:20260114T183538Z
UID:10001458-1779386400-1779400800@muchogustogroup.com
SUMMARY:Live Music Thursdays
DESCRIPTION:From March through April\, every Thursday means live music at Much Gusto!
URL:https://muchogustogroup.com/event/live-music-thursdays/2026-05-21/
LOCATION:Mucho Gusto Bel Air\, 1209A Baltimore Pike\, Bel Air\, MD\, 21014\, United States
CATEGORIES:Weekly Features
ATTACH;FMTTYPE=image/jpeg:https://muchogustogroup.com/wp-content/uploads/2026/01/Live-Music-1200.jpg
END:VEVENT
BEGIN:VEVENT
DTSTART;TZID=America/New_York:20260528T180000
DTEND;TZID=America/New_York:20260528T220000
DTSTAMP:20260424T145605
CREATED:20260113T181001Z
LAST-MODIFIED:20260114T183538Z
UID:10001459-1779991200-1780005600@muchogustogroup.com
SUMMARY:Live Music Thursdays
DESCRIPTION:From March through April\, every Thursday means live music at Much Gusto!
URL:https://muchogustogroup.com/event/live-music-thursdays/2026-05-28/
LOCATION:Mucho Gusto Bel Air\, 1209A Baltimore Pike\, Bel Air\, MD\, 21014\, United States
CATEGORIES:Weekly Features
ATTACH;FMTTYPE=image/jpeg:https://muchogustogroup.com/wp-content/uploads/2026/01/Live-Music-1200.jpg
END:VEVENT
BEGIN:VEVENT
DTSTART;TZID=America/New_York:20260604T180000
DTEND;TZID=America/New_York:20260604T220000
DTSTAMP:20260424T145605
CREATED:20260113T181001Z
LAST-MODIFIED:20260114T183538Z
UID:10001460-1780596000-1780610400@muchogustogroup.com
SUMMARY:Live Music Thursdays
DESCRIPTION:From March through April\, every Thursday means live music at Much Gusto!
URL:https://muchogustogroup.com/event/live-music-thursdays/2026-06-04/
LOCATION:Mucho Gusto Bel Air\, 1209A Baltimore Pike\, Bel Air\, MD\, 21014\, United States
CATEGORIES:Weekly Features
ATTACH;FMTTYPE=image/jpeg:https://muchogustogroup.com/wp-content/uploads/2026/01/Live-Music-1200.jpg
END:VEVENT
BEGIN:VEVENT
DTSTART;TZID=America/New_York:20260611T180000
DTEND;TZID=America/New_York:20260611T220000
DTSTAMP:20260424T145605
CREATED:20260113T181001Z
LAST-MODIFIED:20260114T183538Z
UID:10001461-1781200800-1781215200@muchogustogroup.com
SUMMARY:Live Music Thursdays
DESCRIPTION:From March through April\, every Thursday means live music at Much Gusto!
URL:https://muchogustogroup.com/event/live-music-thursdays/2026-06-11/
LOCATION:Mucho Gusto Bel Air\, 1209A Baltimore Pike\, Bel Air\, MD\, 21014\, United States
CATEGORIES:Weekly Features
ATTACH;FMTTYPE=image/jpeg:https://muchogustogroup.com/wp-content/uploads/2026/01/Live-Music-1200.jpg
END:VEVENT
BEGIN:VEVENT
DTSTART;TZID=America/New_York:20260618T180000
DTEND;TZID=America/New_York:20260618T220000
DTSTAMP:20260424T145605
CREATED:20260113T181001Z
LAST-MODIFIED:20260114T183538Z
UID:10001462-1781805600-1781820000@muchogustogroup.com
SUMMARY:Live Music Thursdays
DESCRIPTION:From March through April\, every Thursday means live music at Much Gusto!
URL:https://muchogustogroup.com/event/live-music-thursdays/2026-06-18/
LOCATION:Mucho Gusto Bel Air\, 1209A Baltimore Pike\, Bel Air\, MD\, 21014\, United States
CATEGORIES:Weekly Features
ATTACH;FMTTYPE=image/jpeg:https://muchogustogroup.com/wp-content/uploads/2026/01/Live-Music-1200.jpg
END:VEVENT
BEGIN:VEVENT
DTSTART;TZID=America/New_York:20260625T180000
DTEND;TZID=America/New_York:20260625T220000
DTSTAMP:20260424T145605
CREATED:20260113T181001Z
LAST-MODIFIED:20260114T183538Z
UID:10001463-1782410400-1782424800@muchogustogroup.com
SUMMARY:Live Music Thursdays
DESCRIPTION:From March through April\, every Thursday means live music at Much Gusto!
URL:https://muchogustogroup.com/event/live-music-thursdays/2026-06-25/
LOCATION:Mucho Gusto Bel Air\, 1209A Baltimore Pike\, Bel Air\, MD\, 21014\, United States
CATEGORIES:Weekly Features
ATTACH;FMTTYPE=image/jpeg:https://muchogustogroup.com/wp-content/uploads/2026/01/Live-Music-1200.jpg
END:VEVENT
BEGIN:VEVENT
DTSTART;TZID=America/New_York:20260702T180000
DTEND;TZID=America/New_York:20260702T220000
DTSTAMP:20260424T145605
CREATED:20260113T181001Z
LAST-MODIFIED:20260114T183538Z
UID:10001464-1783015200-1783029600@muchogustogroup.com
SUMMARY:Live Music Thursdays
DESCRIPTION:From March through April\, every Thursday means live music at Much Gusto!
URL:https://muchogustogroup.com/event/live-music-thursdays/2026-07-02/
LOCATION:Mucho Gusto Bel Air\, 1209A Baltimore Pike\, Bel Air\, MD\, 21014\, United States
CATEGORIES:Weekly Features
ATTACH;FMTTYPE=image/jpeg:https://muchogustogroup.com/wp-content/uploads/2026/01/Live-Music-1200.jpg
END:VEVENT
BEGIN:VEVENT
DTSTART;TZID=America/New_York:20260709T180000
DTEND;TZID=America/New_York:20260709T220000
DTSTAMP:20260424T145605
CREATED:20260113T181001Z
LAST-MODIFIED:20260114T183538Z
UID:10001465-1783620000-1783634400@muchogustogroup.com
SUMMARY:Live Music Thursdays
DESCRIPTION:From March through April\, every Thursday means live music at Much Gusto!
URL:https://muchogustogroup.com/event/live-music-thursdays/2026-07-09/
LOCATION:Mucho Gusto Bel Air\, 1209A Baltimore Pike\, Bel Air\, MD\, 21014\, United States
CATEGORIES:Weekly Features
ATTACH;FMTTYPE=image/jpeg:https://muchogustogroup.com/wp-content/uploads/2026/01/Live-Music-1200.jpg
END:VEVENT
BEGIN:VEVENT
DTSTART;TZID=America/New_York:20260716T180000
DTEND;TZID=America/New_York:20260716T220000
DTSTAMP:20260424T145605
CREATED:20260113T181001Z
LAST-MODIFIED:20260114T183538Z
UID:10001466-1784224800-1784239200@muchogustogroup.com
SUMMARY:Live Music Thursdays
DESCRIPTION:From March through April\, every Thursday means live music at Much Gusto!
URL:https://muchogustogroup.com/event/live-music-thursdays/2026-07-16/
LOCATION:Mucho Gusto Bel Air\, 1209A Baltimore Pike\, Bel Air\, MD\, 21014\, United States
CATEGORIES:Weekly Features
ATTACH;FMTTYPE=image/jpeg:https://muchogustogroup.com/wp-content/uploads/2026/01/Live-Music-1200.jpg
END:VEVENT
BEGIN:VEVENT
DTSTART;TZID=America/New_York:20260723T180000
DTEND;TZID=America/New_York:20260723T220000
DTSTAMP:20260424T145605
CREATED:20260113T181001Z
LAST-MODIFIED:20260114T183538Z
UID:10001467-1784829600-1784844000@muchogustogroup.com
SUMMARY:Live Music Thursdays
DESCRIPTION:From March through April\, every Thursday means live music at Much Gusto!
URL:https://muchogustogroup.com/event/live-music-thursdays/2026-07-23/
LOCATION:Mucho Gusto Bel Air\, 1209A Baltimore Pike\, Bel Air\, MD\, 21014\, United States
CATEGORIES:Weekly Features
ATTACH;FMTTYPE=image/jpeg:https://muchogustogroup.com/wp-content/uploads/2026/01/Live-Music-1200.jpg
END:VEVENT
BEGIN:VEVENT
DTSTART;TZID=America/New_York:20260730T180000
DTEND;TZID=America/New_York:20260730T220000
DTSTAMP:20260424T145605
CREATED:20260113T181001Z
LAST-MODIFIED:20260114T183538Z
UID:10001468-1785434400-1785448800@muchogustogroup.com
SUMMARY:Live Music Thursdays
DESCRIPTION:From March through April\, every Thursday means live music at Much Gusto!
URL:https://muchogustogroup.com/event/live-music-thursdays/2026-07-30/
LOCATION:Mucho Gusto Bel Air\, 1209A Baltimore Pike\, Bel Air\, MD\, 21014\, United States
CATEGORIES:Weekly Features
ATTACH;FMTTYPE=image/jpeg:https://muchogustogroup.com/wp-content/uploads/2026/01/Live-Music-1200.jpg
END:VEVENT
BEGIN:VEVENT
DTSTART;TZID=America/New_York:20260806T180000
DTEND;TZID=America/New_York:20260806T220000
DTSTAMP:20260424T145605
CREATED:20260113T181001Z
LAST-MODIFIED:20260114T183538Z
UID:10001469-1786039200-1786053600@muchogustogroup.com
SUMMARY:Live Music Thursdays
DESCRIPTION:From March through April\, every Thursday means live music at Much Gusto!
URL:https://muchogustogroup.com/event/live-music-thursdays/2026-08-06/
LOCATION:Mucho Gusto Bel Air\, 1209A Baltimore Pike\, Bel Air\, MD\, 21014\, United States
CATEGORIES:Weekly Features
ATTACH;FMTTYPE=image/jpeg:https://muchogustogroup.com/wp-content/uploads/2026/01/Live-Music-1200.jpg
END:VEVENT
BEGIN:VEVENT
DTSTART;TZID=America/New_York:20260813T180000
DTEND;TZID=America/New_York:20260813T220000
DTSTAMP:20260424T145605
CREATED:20260113T181001Z
LAST-MODIFIED:20260114T183538Z
UID:10001470-1786644000-1786658400@muchogustogroup.com
SUMMARY:Live Music Thursdays
DESCRIPTION:From March through April\, every Thursday means live music at Much Gusto!
URL:https://muchogustogroup.com/event/live-music-thursdays/2026-08-13/
LOCATION:Mucho Gusto Bel Air\, 1209A Baltimore Pike\, Bel Air\, MD\, 21014\, United States
CATEGORIES:Weekly Features
ATTACH;FMTTYPE=image/jpeg:https://muchogustogroup.com/wp-content/uploads/2026/01/Live-Music-1200.jpg
END:VEVENT
BEGIN:VEVENT
DTSTART;TZID=America/New_York:20260820T180000
DTEND;TZID=America/New_York:20260820T220000
DTSTAMP:20260424T145605
CREATED:20260113T181001Z
LAST-MODIFIED:20260114T183538Z
UID:10001471-1787248800-1787263200@muchogustogroup.com
SUMMARY:Live Music Thursdays
DESCRIPTION:From March through April\, every Thursday means live music at Much Gusto!
URL:https://muchogustogroup.com/event/live-music-thursdays/2026-08-20/
LOCATION:Mucho Gusto Bel Air\, 1209A Baltimore Pike\, Bel Air\, MD\, 21014\, United States
CATEGORIES:Weekly Features
ATTACH;FMTTYPE=image/jpeg:https://muchogustogroup.com/wp-content/uploads/2026/01/Live-Music-1200.jpg
END:VEVENT
BEGIN:VEVENT
DTSTART;TZID=America/New_York:20260827T180000
DTEND;TZID=America/New_York:20260827T220000
DTSTAMP:20260424T145605
CREATED:20260113T181001Z
LAST-MODIFIED:20260114T183538Z
UID:10001472-1787853600-1787868000@muchogustogroup.com
SUMMARY:Live Music Thursdays
DESCRIPTION:From March through April\, every Thursday means live music at Much Gusto!
URL:https://muchogustogroup.com/event/live-music-thursdays/2026-08-27/
LOCATION:Mucho Gusto Bel Air\, 1209A Baltimore Pike\, Bel Air\, MD\, 21014\, United States
CATEGORIES:Weekly Features
ATTACH;FMTTYPE=image/jpeg:https://muchogustogroup.com/wp-content/uploads/2026/01/Live-Music-1200.jpg
END:VEVENT
BEGIN:VEVENT
DTSTART;TZID=America/New_York:20260903T180000
DTEND;TZID=America/New_York:20260903T220000
DTSTAMP:20260424T145605
CREATED:20260113T181001Z
LAST-MODIFIED:20260114T183538Z
UID:10001473-1788458400-1788472800@muchogustogroup.com
SUMMARY:Live Music Thursdays
DESCRIPTION:From March through April\, every Thursday means live music at Much Gusto!
URL:https://muchogustogroup.com/event/live-music-thursdays/2026-09-03/
LOCATION:Mucho Gusto Bel Air\, 1209A Baltimore Pike\, Bel Air\, MD\, 21014\, United States
CATEGORIES:Weekly Features
ATTACH;FMTTYPE=image/jpeg:https://muchogustogroup.com/wp-content/uploads/2026/01/Live-Music-1200.jpg
END:VEVENT
BEGIN:VEVENT
DTSTART;TZID=America/New_York:20260910T180000
DTEND;TZID=America/New_York:20260910T220000
DTSTAMP:20260424T145605
CREATED:20260113T181001Z
LAST-MODIFIED:20260114T183538Z
UID:10001474-1789063200-1789077600@muchogustogroup.com
SUMMARY:Live Music Thursdays
DESCRIPTION:From March through April\, every Thursday means live music at Much Gusto!
URL:https://muchogustogroup.com/event/live-music-thursdays/2026-09-10/
LOCATION:Mucho Gusto Bel Air\, 1209A Baltimore Pike\, Bel Air\, MD\, 21014\, United States
CATEGORIES:Weekly Features
ATTACH;FMTTYPE=image/jpeg:https://muchogustogroup.com/wp-content/uploads/2026/01/Live-Music-1200.jpg
END:VEVENT
BEGIN:VEVENT
DTSTART;TZID=America/New_York:20260917T180000
DTEND;TZID=America/New_York:20260917T220000
DTSTAMP:20260424T145605
CREATED:20260113T181001Z
LAST-MODIFIED:20260114T183538Z
UID:10001475-1789668000-1789682400@muchogustogroup.com
SUMMARY:Live Music Thursdays
DESCRIPTION:From March through April\, every Thursday means live music at Much Gusto!
URL:https://muchogustogroup.com/event/live-music-thursdays/2026-09-17/
LOCATION:Mucho Gusto Bel Air\, 1209A Baltimore Pike\, Bel Air\, MD\, 21014\, United States
CATEGORIES:Weekly Features
ATTACH;FMTTYPE=image/jpeg:https://muchogustogroup.com/wp-content/uploads/2026/01/Live-Music-1200.jpg
END:VEVENT
BEGIN:VEVENT
DTSTART;TZID=America/New_York:20260924T180000
DTEND;TZID=America/New_York:20260924T220000
DTSTAMP:20260424T145605
CREATED:20260113T181001Z
LAST-MODIFIED:20260114T183538Z
UID:10001476-1790272800-1790287200@muchogustogroup.com
SUMMARY:Live Music Thursdays
DESCRIPTION:From March through April\, every Thursday means live music at Much Gusto!
URL:https://muchogustogroup.com/event/live-music-thursdays/2026-09-24/
LOCATION:Mucho Gusto Bel Air\, 1209A Baltimore Pike\, Bel Air\, MD\, 21014\, United States
CATEGORIES:Weekly Features
ATTACH;FMTTYPE=image/jpeg:https://muchogustogroup.com/wp-content/uploads/2026/01/Live-Music-1200.jpg
END:VEVENT
BEGIN:VEVENT
DTSTART;TZID=America/New_York:20261001T180000
DTEND;TZID=America/New_York:20261001T220000
DTSTAMP:20260424T145605
CREATED:20260113T181001Z
LAST-MODIFIED:20260114T183538Z
UID:10001477-1790877600-1790892000@muchogustogroup.com
SUMMARY:Live Music Thursdays
DESCRIPTION:From March through April\, every Thursday means live music at Much Gusto!
URL:https://muchogustogroup.com/event/live-music-thursdays/2026-10-01/
LOCATION:Mucho Gusto Bel Air\, 1209A Baltimore Pike\, Bel Air\, MD\, 21014\, United States
CATEGORIES:Weekly Features
ATTACH;FMTTYPE=image/jpeg:https://muchogustogroup.com/wp-content/uploads/2026/01/Live-Music-1200.jpg
END:VEVENT
BEGIN:VEVENT
DTSTART;TZID=America/New_York:20261008T180000
DTEND;TZID=America/New_York:20261008T220000
DTSTAMP:20260424T145605
CREATED:20260113T181001Z
LAST-MODIFIED:20260114T183538Z
UID:10001478-1791482400-1791496800@muchogustogroup.com
SUMMARY:Live Music Thursdays
DESCRIPTION:From March through April\, every Thursday means live music at Much Gusto!
URL:https://muchogustogroup.com/event/live-music-thursdays/2026-10-08/
LOCATION:Mucho Gusto Bel Air\, 1209A Baltimore Pike\, Bel Air\, MD\, 21014\, United States
CATEGORIES:Weekly Features
ATTACH;FMTTYPE=image/jpeg:https://muchogustogroup.com/wp-content/uploads/2026/01/Live-Music-1200.jpg
END:VEVENT
BEGIN:VEVENT
DTSTART;TZID=America/New_York:20261015T180000
DTEND;TZID=America/New_York:20261015T220000
DTSTAMP:20260424T145605
CREATED:20260113T181001Z
LAST-MODIFIED:20260114T183538Z
UID:10001479-1792087200-1792101600@muchogustogroup.com
SUMMARY:Live Music Thursdays
DESCRIPTION:From March through April\, every Thursday means live music at Much Gusto!
URL:https://muchogustogroup.com/event/live-music-thursdays/2026-10-15/
LOCATION:Mucho Gusto Bel Air\, 1209A Baltimore Pike\, Bel Air\, MD\, 21014\, United States
CATEGORIES:Weekly Features
ATTACH;FMTTYPE=image/jpeg:https://muchogustogroup.com/wp-content/uploads/2026/01/Live-Music-1200.jpg
END:VEVENT
BEGIN:VEVENT
DTSTART;TZID=America/New_York:20261022T180000
DTEND;TZID=America/New_York:20261022T220000
DTSTAMP:20260424T145605
CREATED:20260113T181001Z
LAST-MODIFIED:20260114T183538Z
UID:10001480-1792692000-1792706400@muchogustogroup.com
SUMMARY:Live Music Thursdays
DESCRIPTION:From March through April\, every Thursday means live music at Much Gusto!
URL:https://muchogustogroup.com/event/live-music-thursdays/2026-10-22/
LOCATION:Mucho Gusto Bel Air\, 1209A Baltimore Pike\, Bel Air\, MD\, 21014\, United States
CATEGORIES:Weekly Features
ATTACH;FMTTYPE=image/jpeg:https://muchogustogroup.com/wp-content/uploads/2026/01/Live-Music-1200.jpg
END:VEVENT
BEGIN:VEVENT
DTSTART;TZID=America/New_York:20261029T180000
DTEND;TZID=America/New_York:20261029T220000
DTSTAMP:20260424T145605
CREATED:20260113T181001Z
LAST-MODIFIED:20260114T183538Z
UID:10001481-1793296800-1793311200@muchogustogroup.com
SUMMARY:Live Music Thursdays
DESCRIPTION:From March through April\, every Thursday means live music at Much Gusto!
URL:https://muchogustogroup.com/event/live-music-thursdays/2026-10-29/
LOCATION:Mucho Gusto Bel Air\, 1209A Baltimore Pike\, Bel Air\, MD\, 21014\, United States
CATEGORIES:Weekly Features
ATTACH;FMTTYPE=image/jpeg:https://muchogustogroup.com/wp-content/uploads/2026/01/Live-Music-1200.jpg
END:VEVENT
BEGIN:VEVENT
DTSTART;TZID=America/New_York:20261105T180000
DTEND;TZID=America/New_York:20261105T220000
DTSTAMP:20260424T145605
CREATED:20260113T181001Z
LAST-MODIFIED:20260114T183538Z
UID:10001482-1793901600-1793916000@muchogustogroup.com
SUMMARY:Live Music Thursdays
DESCRIPTION:From March through April\, every Thursday means live music at Much Gusto!
URL:https://muchogustogroup.com/event/live-music-thursdays/2026-11-05/
LOCATION:Mucho Gusto Bel Air\, 1209A Baltimore Pike\, Bel Air\, MD\, 21014\, United States
CATEGORIES:Weekly Features
ATTACH;FMTTYPE=image/jpeg:https://muchogustogroup.com/wp-content/uploads/2026/01/Live-Music-1200.jpg
END:VEVENT
BEGIN:VEVENT
DTSTART;TZID=America/New_York:20261112T180000
DTEND;TZID=America/New_York:20261112T220000
DTSTAMP:20260424T145605
CREATED:20260113T181001Z
LAST-MODIFIED:20260114T183538Z
UID:10001483-1794506400-1794520800@muchogustogroup.com
SUMMARY:Live Music Thursdays
DESCRIPTION:From March through April\, every Thursday means live music at Much Gusto!
URL:https://muchogustogroup.com/event/live-music-thursdays/2026-11-12/
LOCATION:Mucho Gusto Bel Air\, 1209A Baltimore Pike\, Bel Air\, MD\, 21014\, United States
CATEGORIES:Weekly Features
ATTACH;FMTTYPE=image/jpeg:https://muchogustogroup.com/wp-content/uploads/2026/01/Live-Music-1200.jpg
END:VEVENT
BEGIN:VEVENT
DTSTART;TZID=America/New_York:20261119T180000
DTEND;TZID=America/New_York:20261119T220000
DTSTAMP:20260424T145605
CREATED:20260113T181001Z
LAST-MODIFIED:20260114T183538Z
UID:10001484-1795111200-1795125600@muchogustogroup.com
SUMMARY:Live Music Thursdays
DESCRIPTION:From March through April\, every Thursday means live music at Much Gusto!
URL:https://muchogustogroup.com/event/live-music-thursdays/2026-11-19/
LOCATION:Mucho Gusto Bel Air\, 1209A Baltimore Pike\, Bel Air\, MD\, 21014\, United States
CATEGORIES:Weekly Features
ATTACH;FMTTYPE=image/jpeg:https://muchogustogroup.com/wp-content/uploads/2026/01/Live-Music-1200.jpg
END:VEVENT
END:VCALENDAR