BEGIN:VCALENDAR
VERSION:2.0
PRODID:-//Mucho Gusto - ECPv6.15.20//NONSGML v1.0//EN
CALSCALE:GREGORIAN
METHOD:PUBLISH
X-WR-CALNAME:Mucho Gusto
X-ORIGINAL-URL:https://muchogustogroup.com
X-WR-CALDESC:Events for Mucho Gusto
REFRESH-INTERVAL;VALUE=DURATION:PT1H
X-Robots-Tag:noindex
X-PUBLISHED-TTL:PT1H
BEGIN:VTIMEZONE
TZID:America/New_York
BEGIN:DAYLIGHT
TZOFFSETFROM:-0500
TZOFFSETTO:-0400
TZNAME:EDT
DTSTART:20250309T070000
END:DAYLIGHT
BEGIN:STANDARD
TZOFFSETFROM:-0400
TZOFFSETTO:-0500
TZNAME:EST
DTSTART:20251102T060000
END:STANDARD
BEGIN:DAYLIGHT
TZOFFSETFROM:-0500
TZOFFSETTO:-0400
TZNAME:EDT
DTSTART:20260308T070000
END:DAYLIGHT
BEGIN:STANDARD
TZOFFSETFROM:-0400
TZOFFSETTO:-0500
TZNAME:EST
DTSTART:20261101T060000
END:STANDARD
BEGIN:DAYLIGHT
TZOFFSETFROM:-0500
TZOFFSETTO:-0400
TZNAME:EDT
DTSTART:20270314T070000
END:DAYLIGHT
BEGIN:STANDARD
TZOFFSETFROM:-0400
TZOFFSETTO:-0500
TZNAME:EST
DTSTART:20271107T060000
END:STANDARD
END:VTIMEZONE
BEGIN:VEVENT
DTSTART;VALUE=DATE:20260427
DTEND;VALUE=DATE:20260428
DTSTAMP:20260424T083214
CREATED:20260109T184344Z
LAST-MODIFIED:20260114T183727Z
UID:10000242-1777248000-1777334399@muchogustogroup.com
SUMMARY:Sampler Platter Mondays
DESCRIPTION:Sample Platter Mondays give you the best of Mucho Gusto on one plate! \nEvery Monday\, you can get a platter that includes Taquitos\, Bacon Wrapped Jalapeños\, Beef Empanada\, Cheese Quesadilla\, Guacamole\, and Sour Cream! \n \n 
URL:https://muchogustogroup.com/event/sampler-platter-mondays/2026-04-27/
LOCATION:Mucho Gusto Bel Air\, 1209A Baltimore Pike\, Bel Air\, MD\, 21014\, United States
CATEGORIES:Weekly Features
ATTACH;FMTTYPE=image/jpeg:https://muchogustogroup.com/wp-content/uploads/2026/01/platter_1200-1.jpg
END:VEVENT
BEGIN:VEVENT
DTSTART;VALUE=DATE:20260428
DTEND;VALUE=DATE:20260429
DTSTAMP:20260424T083214
CREATED:20260109T185933Z
LAST-MODIFIED:20260114T183716Z
UID:10000514-1777334400-1777420799@muchogustogroup.com
SUMMARY:Taco Tuesdays
DESCRIPTION:Try our feature taco and margarita of the week available ONLY on Tuesdays! We change our featured flavors regularly\, so ask your server for the latest unique flavor combinations.
URL:https://muchogustogroup.com/event/taco-tuesdays/2026-04-28/
LOCATION:Mucho Gusto Bel Air\, 1209A Baltimore Pike\, Bel Air\, MD\, 21014\, United States
CATEGORIES:Weekly Features
ATTACH;FMTTYPE=image/jpeg:https://muchogustogroup.com/wp-content/uploads/2026/01/tacos_1200.jpg
END:VEVENT
BEGIN:VEVENT
DTSTART;VALUE=DATE:20260429
DTEND;VALUE=DATE:20260430
DTSTAMP:20260424T083214
CREATED:20260109T190717Z
LAST-MODIFIED:20260114T183704Z
UID:10000775-1777420800-1777507199@muchogustogroup.com
SUMMARY:Taste of Tomorrow Wednesdays
DESCRIPTION:Every Wednesday\, Mucho Gusto spotlights our kitchen talent in a Taste of Tomorrow! Try out new dishes and culinary specials that are only available one day a week! \nOur current Taste of Tomorrow: Mucho Gusto Street Fries! Loaded fries covered with Queso Fundido\, Cilantro\, Onion\, Crema\, Cotija & Salsa Verde on the side.
URL:https://muchogustogroup.com/event/taste-of-tomorrow/2026-04-29/
LOCATION:Mucho Gusto Bel Air\, 1209A Baltimore Pike\, Bel Air\, MD\, 21014\, United States
CATEGORIES:Weekly Features
ATTACH;FMTTYPE=image/jpeg:https://muchogustogroup.com/wp-content/uploads/2026/01/street-fries_1200.jpg
END:VEVENT
BEGIN:VEVENT
DTSTART;VALUE=DATE:20260430
DTEND;VALUE=DATE:20260501
DTSTAMP:20260424T083214
CREATED:20260109T191740Z
LAST-MODIFIED:20260114T183652Z
UID:10001036-1777507200-1777593599@muchogustogroup.com
SUMMARY:"Crush" Our Mexican Pizza Thursdays
DESCRIPTION:Thursday is the only day of the week to get our Mexican Pizza\, which pair perfectly with an MG Crush! \nMexican Pizza \nCrispy Flour Tortilla\, Mexican Oaxaca Cheese\, Grilled Chicken Cooked with Homestyle Chipotle Sauce. Topped with Pico De Gallo\, Cotija & Avocado Sauce \nMG Crushes\nTequila or Vodka Crush with your Flavor of Choice: Orange\, Strawberry\, Watermelon\, Peach\, Mango\, Passion Fruit\, Blackberry\, Raspberry
URL:https://muchogustogroup.com/event/crush-our-mexican-pizza-thursday/2026-04-30/
LOCATION:Mucho Gusto Bel Air\, 1209A Baltimore Pike\, Bel Air\, MD\, 21014\, United States
CATEGORIES:Weekly Features
ATTACH;FMTTYPE=image/jpeg:https://muchogustogroup.com/wp-content/uploads/2026/01/mexican-pizza_1200.jpg
END:VEVENT
BEGIN:VEVENT
DTSTART;TZID=America/New_York:20260430T180000
DTEND;TZID=America/New_York:20260430T220000
DTSTAMP:20260424T083214
CREATED:20260113T181001Z
LAST-MODIFIED:20260114T183538Z
UID:10001455-1777572000-1777586400@muchogustogroup.com
SUMMARY:Live Music Thursdays
DESCRIPTION:From March through April\, every Thursday means live music at Much Gusto!
URL:https://muchogustogroup.com/event/live-music-thursdays/2026-04-30/
LOCATION:Mucho Gusto Bel Air\, 1209A Baltimore Pike\, Bel Air\, MD\, 21014\, United States
CATEGORIES:Weekly Features
ATTACH;FMTTYPE=image/jpeg:https://muchogustogroup.com/wp-content/uploads/2026/01/Live-Music-1200.jpg
END:VEVENT
BEGIN:VEVENT
DTSTART;TZID=America/New_York:20260501T180000
DTEND;TZID=America/New_York:20260501T220000
DTSTAMP:20260424T083214
CREATED:20260113T181522Z
LAST-MODIFIED:20260114T183522Z
UID:10001407-1777658400-1777672800@muchogustogroup.com
SUMMARY:Live Music Fridays and Saturdays
DESCRIPTION:Fridays and Saturdays from May through September\, it’s live music at Mucho Gusto Bel Air!
URL:https://muchogustogroup.com/event/live-music-fridays-and-saturdays/2026-05-01/
LOCATION:Mucho Gusto Bel Air\, 1209A Baltimore Pike\, Bel Air\, MD\, 21014\, United States
ATTACH;FMTTYPE=image/jpeg:https://muchogustogroup.com/wp-content/uploads/2026/01/Live-Music-1200.jpg
END:VEVENT
BEGIN:VEVENT
DTSTART;TZID=America/New_York:20260502T180000
DTEND;TZID=America/New_York:20260502T220000
DTSTAMP:20260424T083214
CREATED:20260113T181522Z
LAST-MODIFIED:20260114T183522Z
UID:10001408-1777744800-1777759200@muchogustogroup.com
SUMMARY:Live Music Fridays and Saturdays
DESCRIPTION:Fridays and Saturdays from May through September\, it’s live music at Mucho Gusto Bel Air!
URL:https://muchogustogroup.com/event/live-music-fridays-and-saturdays/2026-05-02/
LOCATION:Mucho Gusto Bel Air\, 1209A Baltimore Pike\, Bel Air\, MD\, 21014\, United States
ATTACH;FMTTYPE=image/jpeg:https://muchogustogroup.com/wp-content/uploads/2026/01/Live-Music-1200.jpg
END:VEVENT
BEGIN:VEVENT
DTSTART;VALUE=DATE:20260504
DTEND;VALUE=DATE:20260505
DTSTAMP:20260424T083214
CREATED:20260109T184344Z
LAST-MODIFIED:20260114T183727Z
UID:10000243-1777852800-1777939199@muchogustogroup.com
SUMMARY:Sampler Platter Mondays
DESCRIPTION:Sample Platter Mondays give you the best of Mucho Gusto on one plate! \nEvery Monday\, you can get a platter that includes Taquitos\, Bacon Wrapped Jalapeños\, Beef Empanada\, Cheese Quesadilla\, Guacamole\, and Sour Cream! \n \n 
URL:https://muchogustogroup.com/event/sampler-platter-mondays/2026-05-04/
LOCATION:Mucho Gusto Bel Air\, 1209A Baltimore Pike\, Bel Air\, MD\, 21014\, United States
CATEGORIES:Weekly Features
ATTACH;FMTTYPE=image/jpeg:https://muchogustogroup.com/wp-content/uploads/2026/01/platter_1200-1.jpg
END:VEVENT
BEGIN:VEVENT
DTSTART;VALUE=DATE:20260505
DTEND;VALUE=DATE:20260506
DTSTAMP:20260424T083214
CREATED:20260109T185933Z
LAST-MODIFIED:20260114T183716Z
UID:10000515-1777939200-1778025599@muchogustogroup.com
SUMMARY:Taco Tuesdays
DESCRIPTION:Try our feature taco and margarita of the week available ONLY on Tuesdays! We change our featured flavors regularly\, so ask your server for the latest unique flavor combinations.
URL:https://muchogustogroup.com/event/taco-tuesdays/2026-05-05/
LOCATION:Mucho Gusto Bel Air\, 1209A Baltimore Pike\, Bel Air\, MD\, 21014\, United States
CATEGORIES:Weekly Features
ATTACH;FMTTYPE=image/jpeg:https://muchogustogroup.com/wp-content/uploads/2026/01/tacos_1200.jpg
END:VEVENT
BEGIN:VEVENT
DTSTART;VALUE=DATE:20260505
DTEND;VALUE=DATE:20260506
DTSTAMP:20260424T083214
CREATED:20260112T152656Z
LAST-MODIFIED:20260421T184753Z
UID:10001283-1777939200-1778025599@muchogustogroup.com
SUMMARY:Cinco de Mayo
DESCRIPTION:At Mucho Gusto\, Cinco de Mayo is more than a celebration — it’s a reason to gather\, to laugh louder\, stay longer\, and share something memorable with the people who make it all better.\n\n\nWe’re bringing the flavor\, the energy\, and the kind of atmosphere that turns a night out into something you’ll be talking about all week.\n  \nSo text the group chat.\nMake the plans.\nBring your people.\n\nLet’s make this Cinco de Mayo one to remember!\n\n  \n\nB.Y.O.M – Build Your Own Margarita\n\n  \n\nLive Music – 2:30-5:30pm at Bel Air and Gambrills\n\n\nJamie Bishop – Bel Air\nRich Presberry – Gambrills\n\n\n\nDJs – 6 to close\n\nDJ KoreywithaK – Bel Air\nDJ Marcus Monroe – Gambrills\nReal DJ Breezy – Towson
URL:https://muchogustogroup.com/event/cinco-de-mayo/
LOCATION:Mucho Gusto Bel Air\, 1209A Baltimore Pike\, Bel Air\, MD\, 21014\, United States
CATEGORIES:Special Event
ATTACH;FMTTYPE=image/jpeg:https://muchogustogroup.com/wp-content/uploads/2026/01/cinco-de-mayo-2026-1200.jpg
END:VEVENT
BEGIN:VEVENT
DTSTART;VALUE=DATE:20260506
DTEND;VALUE=DATE:20260507
DTSTAMP:20260424T083214
CREATED:20260109T190717Z
LAST-MODIFIED:20260114T183704Z
UID:10000776-1778025600-1778111999@muchogustogroup.com
SUMMARY:Taste of Tomorrow Wednesdays
DESCRIPTION:Every Wednesday\, Mucho Gusto spotlights our kitchen talent in a Taste of Tomorrow! Try out new dishes and culinary specials that are only available one day a week! \nOur current Taste of Tomorrow: Mucho Gusto Street Fries! Loaded fries covered with Queso Fundido\, Cilantro\, Onion\, Crema\, Cotija & Salsa Verde on the side.
URL:https://muchogustogroup.com/event/taste-of-tomorrow/2026-05-06/
LOCATION:Mucho Gusto Bel Air\, 1209A Baltimore Pike\, Bel Air\, MD\, 21014\, United States
CATEGORIES:Weekly Features
ATTACH;FMTTYPE=image/jpeg:https://muchogustogroup.com/wp-content/uploads/2026/01/street-fries_1200.jpg
END:VEVENT
BEGIN:VEVENT
DTSTART;VALUE=DATE:20260507
DTEND;VALUE=DATE:20260508
DTSTAMP:20260424T083214
CREATED:20260109T191740Z
LAST-MODIFIED:20260114T183652Z
UID:10001037-1778112000-1778198399@muchogustogroup.com
SUMMARY:"Crush" Our Mexican Pizza Thursdays
DESCRIPTION:Thursday is the only day of the week to get our Mexican Pizza\, which pair perfectly with an MG Crush! \nMexican Pizza \nCrispy Flour Tortilla\, Mexican Oaxaca Cheese\, Grilled Chicken Cooked with Homestyle Chipotle Sauce. Topped with Pico De Gallo\, Cotija & Avocado Sauce \nMG Crushes\nTequila or Vodka Crush with your Flavor of Choice: Orange\, Strawberry\, Watermelon\, Peach\, Mango\, Passion Fruit\, Blackberry\, Raspberry
URL:https://muchogustogroup.com/event/crush-our-mexican-pizza-thursday/2026-05-07/
LOCATION:Mucho Gusto Bel Air\, 1209A Baltimore Pike\, Bel Air\, MD\, 21014\, United States
CATEGORIES:Weekly Features
ATTACH;FMTTYPE=image/jpeg:https://muchogustogroup.com/wp-content/uploads/2026/01/mexican-pizza_1200.jpg
END:VEVENT
BEGIN:VEVENT
DTSTART;TZID=America/New_York:20260507T180000
DTEND;TZID=America/New_York:20260507T220000
DTSTAMP:20260424T083214
CREATED:20260113T181001Z
LAST-MODIFIED:20260114T183538Z
UID:10001456-1778176800-1778191200@muchogustogroup.com
SUMMARY:Live Music Thursdays
DESCRIPTION:From March through April\, every Thursday means live music at Much Gusto!
URL:https://muchogustogroup.com/event/live-music-thursdays/2026-05-07/
LOCATION:Mucho Gusto Bel Air\, 1209A Baltimore Pike\, Bel Air\, MD\, 21014\, United States
CATEGORIES:Weekly Features
ATTACH;FMTTYPE=image/jpeg:https://muchogustogroup.com/wp-content/uploads/2026/01/Live-Music-1200.jpg
END:VEVENT
BEGIN:VEVENT
DTSTART;TZID=America/New_York:20260508T180000
DTEND;TZID=America/New_York:20260508T220000
DTSTAMP:20260424T083214
CREATED:20260113T181522Z
LAST-MODIFIED:20260114T183522Z
UID:10001409-1778263200-1778277600@muchogustogroup.com
SUMMARY:Live Music Fridays and Saturdays
DESCRIPTION:Fridays and Saturdays from May through September\, it’s live music at Mucho Gusto Bel Air!
URL:https://muchogustogroup.com/event/live-music-fridays-and-saturdays/2026-05-08/
LOCATION:Mucho Gusto Bel Air\, 1209A Baltimore Pike\, Bel Air\, MD\, 21014\, United States
ATTACH;FMTTYPE=image/jpeg:https://muchogustogroup.com/wp-content/uploads/2026/01/Live-Music-1200.jpg
END:VEVENT
BEGIN:VEVENT
DTSTART;TZID=America/New_York:20260509T180000
DTEND;TZID=America/New_York:20260509T220000
DTSTAMP:20260424T083214
CREATED:20260113T181522Z
LAST-MODIFIED:20260114T183522Z
UID:10001410-1778349600-1778364000@muchogustogroup.com
SUMMARY:Live Music Fridays and Saturdays
DESCRIPTION:Fridays and Saturdays from May through September\, it’s live music at Mucho Gusto Bel Air!
URL:https://muchogustogroup.com/event/live-music-fridays-and-saturdays/2026-05-09/
LOCATION:Mucho Gusto Bel Air\, 1209A Baltimore Pike\, Bel Air\, MD\, 21014\, United States
ATTACH;FMTTYPE=image/jpeg:https://muchogustogroup.com/wp-content/uploads/2026/01/Live-Music-1200.jpg
END:VEVENT
BEGIN:VEVENT
DTSTART;VALUE=DATE:20260511
DTEND;VALUE=DATE:20260512
DTSTAMP:20260424T083214
CREATED:20260109T184344Z
LAST-MODIFIED:20260114T183727Z
UID:10000244-1778457600-1778543999@muchogustogroup.com
SUMMARY:Sampler Platter Mondays
DESCRIPTION:Sample Platter Mondays give you the best of Mucho Gusto on one plate! \nEvery Monday\, you can get a platter that includes Taquitos\, Bacon Wrapped Jalapeños\, Beef Empanada\, Cheese Quesadilla\, Guacamole\, and Sour Cream! \n \n 
URL:https://muchogustogroup.com/event/sampler-platter-mondays/2026-05-11/
LOCATION:Mucho Gusto Bel Air\, 1209A Baltimore Pike\, Bel Air\, MD\, 21014\, United States
CATEGORIES:Weekly Features
ATTACH;FMTTYPE=image/jpeg:https://muchogustogroup.com/wp-content/uploads/2026/01/platter_1200-1.jpg
END:VEVENT
BEGIN:VEVENT
DTSTART;VALUE=DATE:20260512
DTEND;VALUE=DATE:20260513
DTSTAMP:20260424T083214
CREATED:20260109T185933Z
LAST-MODIFIED:20260114T183716Z
UID:10000516-1778544000-1778630399@muchogustogroup.com
SUMMARY:Taco Tuesdays
DESCRIPTION:Try our feature taco and margarita of the week available ONLY on Tuesdays! We change our featured flavors regularly\, so ask your server for the latest unique flavor combinations.
URL:https://muchogustogroup.com/event/taco-tuesdays/2026-05-12/
LOCATION:Mucho Gusto Bel Air\, 1209A Baltimore Pike\, Bel Air\, MD\, 21014\, United States
CATEGORIES:Weekly Features
ATTACH;FMTTYPE=image/jpeg:https://muchogustogroup.com/wp-content/uploads/2026/01/tacos_1200.jpg
END:VEVENT
BEGIN:VEVENT
DTSTART;VALUE=DATE:20260513
DTEND;VALUE=DATE:20260514
DTSTAMP:20260424T083214
CREATED:20260109T190717Z
LAST-MODIFIED:20260114T183704Z
UID:10000777-1778630400-1778716799@muchogustogroup.com
SUMMARY:Taste of Tomorrow Wednesdays
DESCRIPTION:Every Wednesday\, Mucho Gusto spotlights our kitchen talent in a Taste of Tomorrow! Try out new dishes and culinary specials that are only available one day a week! \nOur current Taste of Tomorrow: Mucho Gusto Street Fries! Loaded fries covered with Queso Fundido\, Cilantro\, Onion\, Crema\, Cotija & Salsa Verde on the side.
URL:https://muchogustogroup.com/event/taste-of-tomorrow/2026-05-13/
LOCATION:Mucho Gusto Bel Air\, 1209A Baltimore Pike\, Bel Air\, MD\, 21014\, United States
CATEGORIES:Weekly Features
ATTACH;FMTTYPE=image/jpeg:https://muchogustogroup.com/wp-content/uploads/2026/01/street-fries_1200.jpg
END:VEVENT
BEGIN:VEVENT
DTSTART;VALUE=DATE:20260514
DTEND;VALUE=DATE:20260515
DTSTAMP:20260424T083214
CREATED:20260109T191740Z
LAST-MODIFIED:20260114T183652Z
UID:10001038-1778716800-1778803199@muchogustogroup.com
SUMMARY:"Crush" Our Mexican Pizza Thursdays
DESCRIPTION:Thursday is the only day of the week to get our Mexican Pizza\, which pair perfectly with an MG Crush! \nMexican Pizza \nCrispy Flour Tortilla\, Mexican Oaxaca Cheese\, Grilled Chicken Cooked with Homestyle Chipotle Sauce. Topped with Pico De Gallo\, Cotija & Avocado Sauce \nMG Crushes\nTequila or Vodka Crush with your Flavor of Choice: Orange\, Strawberry\, Watermelon\, Peach\, Mango\, Passion Fruit\, Blackberry\, Raspberry
URL:https://muchogustogroup.com/event/crush-our-mexican-pizza-thursday/2026-05-14/
LOCATION:Mucho Gusto Bel Air\, 1209A Baltimore Pike\, Bel Air\, MD\, 21014\, United States
CATEGORIES:Weekly Features
ATTACH;FMTTYPE=image/jpeg:https://muchogustogroup.com/wp-content/uploads/2026/01/mexican-pizza_1200.jpg
END:VEVENT
BEGIN:VEVENT
DTSTART;TZID=America/New_York:20260514T180000
DTEND;TZID=America/New_York:20260514T220000
DTSTAMP:20260424T083214
CREATED:20260113T181001Z
LAST-MODIFIED:20260114T183538Z
UID:10001457-1778781600-1778796000@muchogustogroup.com
SUMMARY:Live Music Thursdays
DESCRIPTION:From March through April\, every Thursday means live music at Much Gusto!
URL:https://muchogustogroup.com/event/live-music-thursdays/2026-05-14/
LOCATION:Mucho Gusto Bel Air\, 1209A Baltimore Pike\, Bel Air\, MD\, 21014\, United States
CATEGORIES:Weekly Features
ATTACH;FMTTYPE=image/jpeg:https://muchogustogroup.com/wp-content/uploads/2026/01/Live-Music-1200.jpg
END:VEVENT
BEGIN:VEVENT
DTSTART;TZID=America/New_York:20260515T180000
DTEND;TZID=America/New_York:20260515T220000
DTSTAMP:20260424T083214
CREATED:20260113T181522Z
LAST-MODIFIED:20260114T183522Z
UID:10001411-1778868000-1778882400@muchogustogroup.com
SUMMARY:Live Music Fridays and Saturdays
DESCRIPTION:Fridays and Saturdays from May through September\, it’s live music at Mucho Gusto Bel Air!
URL:https://muchogustogroup.com/event/live-music-fridays-and-saturdays/2026-05-15/
LOCATION:Mucho Gusto Bel Air\, 1209A Baltimore Pike\, Bel Air\, MD\, 21014\, United States
ATTACH;FMTTYPE=image/jpeg:https://muchogustogroup.com/wp-content/uploads/2026/01/Live-Music-1200.jpg
END:VEVENT
BEGIN:VEVENT
DTSTART;TZID=America/New_York:20260516T180000
DTEND;TZID=America/New_York:20260516T220000
DTSTAMP:20260424T083214
CREATED:20260113T181522Z
LAST-MODIFIED:20260114T183522Z
UID:10001412-1778954400-1778968800@muchogustogroup.com
SUMMARY:Live Music Fridays and Saturdays
DESCRIPTION:Fridays and Saturdays from May through September\, it’s live music at Mucho Gusto Bel Air!
URL:https://muchogustogroup.com/event/live-music-fridays-and-saturdays/2026-05-16/
LOCATION:Mucho Gusto Bel Air\, 1209A Baltimore Pike\, Bel Air\, MD\, 21014\, United States
ATTACH;FMTTYPE=image/jpeg:https://muchogustogroup.com/wp-content/uploads/2026/01/Live-Music-1200.jpg
END:VEVENT
BEGIN:VEVENT
DTSTART;VALUE=DATE:20260518
DTEND;VALUE=DATE:20260519
DTSTAMP:20260424T083214
CREATED:20260109T184344Z
LAST-MODIFIED:20260114T183727Z
UID:10000245-1779062400-1779148799@muchogustogroup.com
SUMMARY:Sampler Platter Mondays
DESCRIPTION:Sample Platter Mondays give you the best of Mucho Gusto on one plate! \nEvery Monday\, you can get a platter that includes Taquitos\, Bacon Wrapped Jalapeños\, Beef Empanada\, Cheese Quesadilla\, Guacamole\, and Sour Cream! \n \n 
URL:https://muchogustogroup.com/event/sampler-platter-mondays/2026-05-18/
LOCATION:Mucho Gusto Bel Air\, 1209A Baltimore Pike\, Bel Air\, MD\, 21014\, United States
CATEGORIES:Weekly Features
ATTACH;FMTTYPE=image/jpeg:https://muchogustogroup.com/wp-content/uploads/2026/01/platter_1200-1.jpg
END:VEVENT
BEGIN:VEVENT
DTSTART;VALUE=DATE:20260519
DTEND;VALUE=DATE:20260520
DTSTAMP:20260424T083214
CREATED:20260109T185933Z
LAST-MODIFIED:20260114T183716Z
UID:10000517-1779148800-1779235199@muchogustogroup.com
SUMMARY:Taco Tuesdays
DESCRIPTION:Try our feature taco and margarita of the week available ONLY on Tuesdays! We change our featured flavors regularly\, so ask your server for the latest unique flavor combinations.
URL:https://muchogustogroup.com/event/taco-tuesdays/2026-05-19/
LOCATION:Mucho Gusto Bel Air\, 1209A Baltimore Pike\, Bel Air\, MD\, 21014\, United States
CATEGORIES:Weekly Features
ATTACH;FMTTYPE=image/jpeg:https://muchogustogroup.com/wp-content/uploads/2026/01/tacos_1200.jpg
END:VEVENT
BEGIN:VEVENT
DTSTART;VALUE=DATE:20260520
DTEND;VALUE=DATE:20260521
DTSTAMP:20260424T083214
CREATED:20260109T190717Z
LAST-MODIFIED:20260114T183704Z
UID:10000778-1779235200-1779321599@muchogustogroup.com
SUMMARY:Taste of Tomorrow Wednesdays
DESCRIPTION:Every Wednesday\, Mucho Gusto spotlights our kitchen talent in a Taste of Tomorrow! Try out new dishes and culinary specials that are only available one day a week! \nOur current Taste of Tomorrow: Mucho Gusto Street Fries! Loaded fries covered with Queso Fundido\, Cilantro\, Onion\, Crema\, Cotija & Salsa Verde on the side.
URL:https://muchogustogroup.com/event/taste-of-tomorrow/2026-05-20/
LOCATION:Mucho Gusto Bel Air\, 1209A Baltimore Pike\, Bel Air\, MD\, 21014\, United States
CATEGORIES:Weekly Features
ATTACH;FMTTYPE=image/jpeg:https://muchogustogroup.com/wp-content/uploads/2026/01/street-fries_1200.jpg
END:VEVENT
BEGIN:VEVENT
DTSTART;VALUE=DATE:20260521
DTEND;VALUE=DATE:20260522
DTSTAMP:20260424T083214
CREATED:20260109T191740Z
LAST-MODIFIED:20260114T183652Z
UID:10001039-1779321600-1779407999@muchogustogroup.com
SUMMARY:"Crush" Our Mexican Pizza Thursdays
DESCRIPTION:Thursday is the only day of the week to get our Mexican Pizza\, which pair perfectly with an MG Crush! \nMexican Pizza \nCrispy Flour Tortilla\, Mexican Oaxaca Cheese\, Grilled Chicken Cooked with Homestyle Chipotle Sauce. Topped with Pico De Gallo\, Cotija & Avocado Sauce \nMG Crushes\nTequila or Vodka Crush with your Flavor of Choice: Orange\, Strawberry\, Watermelon\, Peach\, Mango\, Passion Fruit\, Blackberry\, Raspberry
URL:https://muchogustogroup.com/event/crush-our-mexican-pizza-thursday/2026-05-21/
LOCATION:Mucho Gusto Bel Air\, 1209A Baltimore Pike\, Bel Air\, MD\, 21014\, United States
CATEGORIES:Weekly Features
ATTACH;FMTTYPE=image/jpeg:https://muchogustogroup.com/wp-content/uploads/2026/01/mexican-pizza_1200.jpg
END:VEVENT
BEGIN:VEVENT
DTSTART;TZID=America/New_York:20260521T180000
DTEND;TZID=America/New_York:20260521T220000
DTSTAMP:20260424T083214
CREATED:20260113T181001Z
LAST-MODIFIED:20260114T183538Z
UID:10001458-1779386400-1779400800@muchogustogroup.com
SUMMARY:Live Music Thursdays
DESCRIPTION:From March through April\, every Thursday means live music at Much Gusto!
URL:https://muchogustogroup.com/event/live-music-thursdays/2026-05-21/
LOCATION:Mucho Gusto Bel Air\, 1209A Baltimore Pike\, Bel Air\, MD\, 21014\, United States
CATEGORIES:Weekly Features
ATTACH;FMTTYPE=image/jpeg:https://muchogustogroup.com/wp-content/uploads/2026/01/Live-Music-1200.jpg
END:VEVENT
BEGIN:VEVENT
DTSTART;TZID=America/New_York:20260522T180000
DTEND;TZID=America/New_York:20260522T220000
DTSTAMP:20260424T083214
CREATED:20260113T181522Z
LAST-MODIFIED:20260114T183522Z
UID:10001413-1779472800-1779487200@muchogustogroup.com
SUMMARY:Live Music Fridays and Saturdays
DESCRIPTION:Fridays and Saturdays from May through September\, it’s live music at Mucho Gusto Bel Air!
URL:https://muchogustogroup.com/event/live-music-fridays-and-saturdays/2026-05-22/
LOCATION:Mucho Gusto Bel Air\, 1209A Baltimore Pike\, Bel Air\, MD\, 21014\, United States
ATTACH;FMTTYPE=image/jpeg:https://muchogustogroup.com/wp-content/uploads/2026/01/Live-Music-1200.jpg
END:VEVENT
BEGIN:VEVENT
DTSTART;TZID=America/New_York:20260523T180000
DTEND;TZID=America/New_York:20260523T220000
DTSTAMP:20260424T083214
CREATED:20260113T181522Z
LAST-MODIFIED:20260114T183522Z
UID:10001414-1779559200-1779573600@muchogustogroup.com
SUMMARY:Live Music Fridays and Saturdays
DESCRIPTION:Fridays and Saturdays from May through September\, it’s live music at Mucho Gusto Bel Air!
URL:https://muchogustogroup.com/event/live-music-fridays-and-saturdays/2026-05-23/
LOCATION:Mucho Gusto Bel Air\, 1209A Baltimore Pike\, Bel Air\, MD\, 21014\, United States
ATTACH;FMTTYPE=image/jpeg:https://muchogustogroup.com/wp-content/uploads/2026/01/Live-Music-1200.jpg
END:VEVENT
BEGIN:VEVENT
DTSTART;VALUE=DATE:20260525
DTEND;VALUE=DATE:20260526
DTSTAMP:20260424T083214
CREATED:20260109T184344Z
LAST-MODIFIED:20260114T183727Z
UID:10000246-1779667200-1779753599@muchogustogroup.com
SUMMARY:Sampler Platter Mondays
DESCRIPTION:Sample Platter Mondays give you the best of Mucho Gusto on one plate! \nEvery Monday\, you can get a platter that includes Taquitos\, Bacon Wrapped Jalapeños\, Beef Empanada\, Cheese Quesadilla\, Guacamole\, and Sour Cream! \n \n 
URL:https://muchogustogroup.com/event/sampler-platter-mondays/2026-05-25/
LOCATION:Mucho Gusto Bel Air\, 1209A Baltimore Pike\, Bel Air\, MD\, 21014\, United States
CATEGORIES:Weekly Features
ATTACH;FMTTYPE=image/jpeg:https://muchogustogroup.com/wp-content/uploads/2026/01/platter_1200-1.jpg
END:VEVENT
END:VCALENDAR